BEGIN:VCALENDAR
VERSION:2.0
PRODID:-//ChamberMaster//Event Calendar 2.0//EN
METHOD:PUBLISH
X-PUBLISHED-TTL:P1H
REFRESH-INTERVAL:P1H
CALSCALE:GREGORIAN
BEGIN:VTIMEZONE
TZID:America/New_York
BEGIN:DAYLIGHT
RRULE:FREQ=YEARLY;BYMONTH=3;BYDAY=2SU
DTSTART:20070101T000000
TZOFFSETFROM:-0500
TZOFFSETTO:-0400
TZNAME:Eastern Daylight Time
END:DAYLIGHT
BEGIN:STANDARD
RRULE:FREQ=YEARLY;BYMONTH=11;BYDAY=1SU
DTSTART:20070101T000000
TZOFFSETFROM:-0400
TZOFFSETTO:-0500
TZNAME:Eastern Standard Time
END:STANDARD
END:VTIMEZONE
BEGIN:VEVENT
DTSTART;TZID=America/New_York:20260409T140000
DTEND;TZID=America/New_York:20260409T150000
X-MICROSOFT-CDO-ALLDAYEVENT:FALSE
SUMMARY:Breakaway on the Gordie Howe International Bridge - Opening Spring 2026
DESCRIPTION:The Gordie Howe International Bridge will transform how people and goods move across North America by creating a direct\, highway-to-highway connection between Ontario’s Highway 401 and Michigan’s Interstate-75. Designed with six traffic lanes\, 16 toll lanes and 60 Canada and U.S. inspection lanes\, the new crossing and its modern ports of entry will enhance border efficiency\, reliability and capacity for commercial traffic. These advanced onsite facilities are expected to deliver significant benefits for regional supply chains\, manufacturers and commercial carriers operating between Canada and the United States.\nJoin MMA and Heather Grondin from Windsor-Detroit Bridge Authority (WDBA)\, the organization responsible for delivering and overseeing the project\, as they provide an inside look at the bridge’s key features\, operational readiness\, and programs designed to support industry users. The session will highlight how manufacturers can prepare for the new crossing\, improve cross-border logistics planning and take advantage of the Breakaway program\, which offers exclusive toll discounts and hassle-free payment options.
X-ALT-DESC;FMTTYPE=text/html:The Gordie Howe International Bridge will transform how people and goods move across North America by creating a direct\, highway-to-highway connection between Ontario’s Highway 401 and Michigan’s Interstate-75. Designed with six traffic lanes\, 16 toll lanes and 60 Canada and U.S. inspection lanes\, the new crossing and its modern ports of entry will enhance border efficiency\, reliability and capacity for commercial traffic. These advanced onsite facilities are expected to deliver significant benefits for regional supply chains\, manufacturers and commercial carriers operating between Canada and the United States.\nJoin MMA and Heather Grondin from Windsor-Detroit Bridge Authority (WDBA)\, the organization responsible for delivering and overseeing the project\, as they provide an inside look at the bridge’s key features\, operational readiness\, and programs designed to support industry users. The session will highlight how manufacturers can prepare for the new crossing\, improve cross-border logistics planning and take advantage of the Breakaway program\, which offers exclusive toll discounts and hassle-free payment options.
LOCATION:
UID:e.1056.1432631
SEQUENCE:3
DTSTAMP:20260421T023230Z
URL:https://mimfg.growthzoneapp.com/mmaeventcalendar/Details/breakaway-on-the-gordie-howe-international-bridge-opening-spring-2026-1695563?sourceTypeId=Hub
END:VEVENT
END:VCALENDAR
