BEGIN:VCALENDAR
VERSION:2.0
PRODID:-//ChamberMaster//Event Calendar 2.0//EN
METHOD:PUBLISH
X-PUBLISHED-TTL:P1H
REFRESH-INTERVAL:P1H
CALSCALE:GREGORIAN
BEGIN:VTIMEZONE
TZID:America/New_York
BEGIN:DAYLIGHT
RRULE:FREQ=YEARLY;BYMONTH=3;BYDAY=2SU
DTSTART:20070101T000000
TZOFFSETFROM:-0500
TZOFFSETTO:-0400
TZNAME:Eastern Daylight Time
END:DAYLIGHT
BEGIN:STANDARD
RRULE:FREQ=YEARLY;BYMONTH=11;BYDAY=1SU
DTSTART:20070101T000000
TZOFFSETFROM:-0400
TZOFFSETTO:-0500
TZNAME:Eastern Standard Time
END:STANDARD
END:VTIMEZONE
BEGIN:VEVENT
DTSTART;TZID=America/New_York:20260529T103000
DTEND;TZID=America/New_York:20260529T150000
X-MICROSOFT-CDO-ALLDAYEVENT:FALSE
SUMMARY:2026 MMA-PAC Spring Golf Classic Royal Oak
DESCRIPTION:Join us Friday\, May 29\, 2026\, at X-Golf in Royal Oak for our Spring Golf Outing to support Michigan's manufacturing future through strong relationships with pro-manufacturing leaders.Pricing:   Individual Golfers: $125   Team of Three: $325   Non-golfer: $50Agenda:  10:30am - 11:00am Registration     11:00am   3:00pm Golfing and Networking  Lunch will be provided.The MMA-PAC can only accept personal donations due to campaign finance law. Please register below and we will reach out directly to you or your team lead to finalize payment to secure your spot.Disclaimer:  Open only to MMA members. The MMA-PAC can accept personal contributions or contributions from sole-proprietorships\, partnerships or limited liability companies (LLCs). State Law prohibits acceptance of corporate checks.
X-ALT-DESC;FMTTYPE=text/html:<!DOCTYPE html><html><head><title></title></head><body aria-disabled="false"><p style="margin-bottom: 0in\; line-height: normal\;">Join us Friday\, May 29\, 2026\, at X-Golf in Royal Oak for our Spring Golf Outing to support Michigan&#39\;s manufacturing future through strong relationships with pro-manufacturing leaders.</p><p style="margin-bottom:0in\;line-height:normal\;">Pricing:</p><p style="margin-bottom: 0in\; line-height: normal\;">&nbsp\; &nbsp\;Individual Golfers: $125</p><p style="margin-bottom: 0in\; line-height: normal\;">&nbsp\; &nbsp\;Team of Three: $325</p><p style="margin-bottom: 0in\; line-height: normal\;">&nbsp\; &nbsp\;Non-golfer: $50</p><p style="margin-bottom:0in\;line-height:normal\;">Agenda:</p><p style="margin-bottom:0in\;line-height:normal\;">&nbsp\; 10:30am - 11:00am Registration &nbsp\;&nbsp\;</p><p style="margin-bottom:0in\;line-height:normal\;">&nbsp\; 11:00am &ndash\; 3:00pm Golfing and Networking</p><p style="margin-bottom:0in\;line-height:normal\;">&nbsp\; Lunch will be provided.</p><p style="margin-bottom:0in\;line-height:normal\;">The MMA-PAC can only accept personal donations due to campaign finance law. Please register below and we will reach out directly to you or your team lead to finalize payment to secure your spot.</p><p style="margin-bottom: 0in\; line-height: normal\;">Disclaimer: &nbsp\;Open only to MMA members. The MMA-PAC can accept personal contributions or contributions from sole-proprietorships\, partnerships or limited liability companies (LLCs). State Law prohibits acceptance of corporate checks.</p></body></html>
LOCATION:30955 Woodward Avenue Suite 720 Royal Oak MI 48073
UID:e.1056.1433114
SEQUENCE:3
DTSTAMP:20260421T023136Z
URL:https://mimfg.growthzoneapp.com/mmaeventcalendar/Details/2026-mma-pac-spring-golf-classic-royal-oak-1696359?sourceTypeId=Hub
END:VEVENT
END:VCALENDAR
